BEGIN:VCALENDAR
VERSION:2.0
PRODID:-//Extinction Rebellion Boston//Action//
BEGIN:VEVENT
SUMMARY:XRlington gathering
DTSTART:20260425T160000Z
DTEND:20260425T180000Z
DTSTAMP:20260422T170058Z
UID:2267@https://xrboston.org
CREATED:20260422T170058Z
DESCRIPTION:Event details: https://xrboston.org/action/xrlington-gathering
 /\n\nWe are residents of Arlington and neighboring communities united in o
 ur concern about the climate and ecological crisis and its connection to s
 ocietal issues of injustice\, inequality and eroding democracy. We are com
 mitment to working together and taking action to make governments and corp
 orations enact the common sense changes required to prevent complete clima
 te breakdown and societal collapse. As the local affinity group of Extinct
 ion Rebellion Boston\, we meet every month to share food\, connect and pla
 n events. If you have been feeling like our country is falling apart and o
 ur government and corporations are racing in the wrong direction\, come to
  a meeting and learn how you can get involved.\n\nWe meet at the Mystic Op
 en Studio in Arlington Center right after our monthly art build. Feel free
  to come before our meeting to help out as we make climate related protest
  art.
LAST-MODIFIED:20260422T162029Z
LOCATION:Mystic Open Studio
ORGANIZER;CN="Extinction Rebellion Boston":MAILTO:outreach@xrboston.org
URL:https://xrboston.org/action/xrlington-gathering/
END:VEVENT
END:VCALENDAR
